BEGIN:VCALENDAR
VERSION:2.0
PRODID:-//Manatee Patriots - ECPv6.15.20//NONSGML v1.0//EN
CALSCALE:GREGORIAN
METHOD:PUBLISH
X-ORIGINAL-URL:https://manateepatriots.us
X-WR-CALDESC:Events for Manatee Patriots
REFRESH-INTERVAL;VALUE=DURATION:PT1H
X-Robots-Tag:noindex
X-PUBLISHED-TTL:PT1H
BEGIN:VTIMEZONE
TZID:America/New_York
BEGIN:DAYLIGHT
TZOFFSETFROM:-0500
TZOFFSETTO:-0400
TZNAME:EDT
DTSTART:20210314T070000
END:DAYLIGHT
BEGIN:STANDARD
TZOFFSETFROM:-0400
TZOFFSETTO:-0500
TZNAME:EST
DTSTART:20211107T060000
END:STANDARD
BEGIN:DAYLIGHT
TZOFFSETFROM:-0500
TZOFFSETTO:-0400
TZNAME:EDT
DTSTART:20220313T070000
END:DAYLIGHT
BEGIN:STANDARD
TZOFFSETFROM:-0400
TZOFFSETTO:-0500
TZNAME:EST
DTSTART:20221106T060000
END:STANDARD
BEGIN:DAYLIGHT
TZOFFSETFROM:-0500
TZOFFSETTO:-0400
TZNAME:EDT
DTSTART:20230312T070000
END:DAYLIGHT
BEGIN:STANDARD
TZOFFSETFROM:-0400
TZOFFSETTO:-0500
TZNAME:EST
DTSTART:20231105T060000
END:STANDARD
BEGIN:DAYLIGHT
TZOFFSETFROM:-0500
TZOFFSETTO:-0400
TZNAME:EDT
DTSTART:20240310T070000
END:DAYLIGHT
BEGIN:STANDARD
TZOFFSETFROM:-0400
TZOFFSETTO:-0500
TZNAME:EST
DTSTART:20241103T060000
END:STANDARD
BEGIN:DAYLIGHT
TZOFFSETFROM:-0500
TZOFFSETTO:-0400
TZNAME:EDT
DTSTART:20250309T070000
END:DAYLIGHT
BEGIN:STANDARD
TZOFFSETFROM:-0400
TZOFFSETTO:-0500
TZNAME:EST
DTSTART:20251102T060000
END:STANDARD
BEGIN:DAYLIGHT
TZOFFSETFROM:-0500
TZOFFSETTO:-0400
TZNAME:EDT
DTSTART:20260308T070000
END:DAYLIGHT
BEGIN:STANDARD
TZOFFSETFROM:-0400
TZOFFSETTO:-0500
TZNAME:EST
DTSTART:20261101T060000
END:STANDARD
BEGIN:DAYLIGHT
TZOFFSETFROM:-0500
TZOFFSETTO:-0400
TZNAME:EDT
DTSTART:20270314T070000
END:DAYLIGHT
BEGIN:STANDARD
TZOFFSETFROM:-0400
TZOFFSETTO:-0500
TZNAME:EST
DTSTART:20271107T060000
END:STANDARD
END:VTIMEZONE
BEGIN:VEVENT
DTSTART;TZID=America/New_York:20260414T183000
DTEND;TZID=America/New_York:20260414T203000
DTSTAMP:20260420T010805
CREATED:20260204T162811Z
LAST-MODIFIED:20260313T123736Z
UID:8702-1776191400-1776198600@manateepatriots.us
SUMMARY:General Meeting.  Featured Speaker:  Eddie Speir\, Candidate\, US Congress FL-16
DESCRIPTION:Hear Conservative Activist and Candidate Eddie Speir as he provides an update  on his FL Congressional Candidate Dist 16 Campaign.
URL:https://manateepatriots.us/event/general-meeting-featured-speaker-cam-bedinghaus-candidate-manatee-county-school-board-district-5/
LOCATION:John H. Marble Recreation Center\, 3675 53rd Ave E\, Bradenton\, FL\, 34203\, United States
CATEGORIES:Candidate
ATTACH;FMTTYPE=image/png:https://manateepatriots.us/wp-content/uploads/2026/02/Screenshot-2026-03-13-at-8.36.54-AM.png
END:VEVENT
BEGIN:VEVENT
DTSTART;TZID=America/New_York:20260407T183000
DTEND;TZID=America/New_York:20260407T203000
DTSTAMP:20260420T010805
CREATED:20260203T235033Z
LAST-MODIFIED:20260204T162528Z
UID:8698-1775586600-1775593800@manateepatriots.us
SUMMARY:General Meeting.  Featured Speaker:  Ed Bailey\, Candidate\, BOCC District 2
DESCRIPTION:
URL:https://manateepatriots.us/event/general-meeting-featured-speaker-ed-bailey-candidate-bocc-district-2/
LOCATION:John H. Marble Recreation Center\, 3675 53rd Ave E\, Bradenton\, FL\, 34203\, United States
CATEGORIES:BOCC,Candidate
ATTACH;FMTTYPE=image/png:https://manateepatriots.us/wp-content/uploads/2026/02/Screenshot-2026-02-03-at-6.49.43-PM.png
END:VEVENT
BEGIN:VEVENT
DTSTART;TZID=America/New_York:20260331T183000
DTEND;TZID=America/New_York:20260331T203000
DTSTAMP:20260420T010805
CREATED:20260131T010201Z
LAST-MODIFIED:20260319T010530Z
UID:8694-1774981800-1774989000@manateepatriots.us
SUMMARY:General Meeting.  Featured Speaker: Mark Stanoch\, Candidate BOCC District 1
DESCRIPTION:Here our own Mark Stanoch talk about the issues facing Manatee County and his plans for addressing them.
URL:https://manateepatriots.us/event/general-meeting-featured-speaker-captain-dennis-flood/
LOCATION:John H. Marble Recreation Center\, 3675 53rd Ave E\, Bradenton\, FL\, 34203\, United States
CATEGORIES:BOCC,Candidate
ATTACH;FMTTYPE=image/jpeg:https://manateepatriots.us/wp-content/uploads/2026/01/SidePortrait.Better.2.jpeg
END:VEVENT
BEGIN:VEVENT
DTSTART;TZID=America/New_York:20260324T180000
DTEND;TZID=America/New_York:20260324T200000
DTSTAMP:20260420T010805
CREATED:20260124T013917Z
LAST-MODIFIED:20260305T232415Z
UID:8674-1774375200-1774382400@manateepatriots.us
SUMMARY:General Meeting.  Featured Speaker:  LT. Gov. Jay Collins\, Candidate For FL Governor
DESCRIPTION:WE are excited to have Lt. Governor Jay Collins as our featured speaker.  Lt. Gov. Collins is a candidate for Florida Governor.
URL:https://manateepatriots.us/event/general-meeting-featured-speaker-chad-choate-manatee-county-school-board-district-4/
LOCATION:Mixon Fruit Farms\, 2525 27th St E\, Bradenton\, Florida\, 34208\, United States
CATEGORIES:Candidate,Governor
ATTACH;FMTTYPE=image/png:https://manateepatriots.us/wp-content/uploads/2026/01/Screenshot-2026-03-05-at-6.23.05-PM.png
END:VEVENT
BEGIN:VEVENT
DTSTART;TZID=America/New_York:20260317T183000
DTEND;TZID=America/New_York:20260317T203000
DTSTAMP:20260420T010805
CREATED:20260116T162705Z
LAST-MODIFIED:20260204T163621Z
UID:8664-1773772200-1773779400@manateepatriots.us
SUMMARY:General Meeting.  Featured Speaker:  Cindy Spray\, Manatee County School Board District 2
DESCRIPTION:
URL:https://manateepatriots.us/event/general-meeting-featured-speaker-cindy-spray-manatee-county-school-board-district-2-2/
LOCATION:John H. Marble Recreation Center\, 3675 53rd Ave E\, Bradenton\, FL\, 34203\, United States
CATEGORIES:Candidate
ATTACH;FMTTYPE=image/jpeg:https://manateepatriots.us/wp-content/uploads/2022/07/Cindy6-Leader.jpg
END:VEVENT
BEGIN:VEVENT
DTSTART;TZID=America/New_York:20260310T183000
DTEND;TZID=America/New_York:20260310T203000
DTSTAMP:20260420T010805
CREATED:20260221T125442Z
LAST-MODIFIED:20260221T125442Z
UID:8719-1773167400-1773174600@manateepatriots.us
SUMMARY:General Meeting.  Featured Speaker:  Adam Johnson\, candidate\, Board of County Commissioners District 6 (At Large)
DESCRIPTION:Hear J6er Adam Johnson as he discusses his platform for BOCC District 6
URL:https://manateepatriots.us/event/general-meeting-featured-speaker-adam-johnson-candidate-board-of-county-commissioners-district-6-at-large/
LOCATION:John H. Marble Recreation Center\, 3675 53rd Ave E\, Bradenton\, FL\, 34203\, United States
CATEGORIES:BOCC,Candidate
ATTACH;FMTTYPE=image/png:https://manateepatriots.us/wp-content/uploads/2026/02/Screenshot-2026-02-21-at-7.54.11-AM.png
END:VEVENT
BEGIN:VEVENT
DTSTART;TZID=America/New_York:20260303T183000
DTEND;TZID=America/New_York:20260303T203000
DTSTAMP:20260420T010805
CREATED:20260116T162306Z
LAST-MODIFIED:20260116T162306Z
UID:8661-1772562600-1772569800@manateepatriots.us
SUMMARY:General Meeting.  Featured Speaker:  Edward Ference\, Candidate\, Manatee County Board of County Commissioners District 6 At Large
DESCRIPTION:
URL:https://manateepatriots.us/event/general-meeting-featured-speaker-edward-ference-candidate-manatee-county-board-of-county-commissioners-district-6-at-large/
LOCATION:John H. Marble Recreation Center\, 3675 53rd Ave E\, Bradenton\, FL\, 34203\, United States
CATEGORIES:Candidate
ATTACH;FMTTYPE=image/png:https://manateepatriots.us/wp-content/uploads/2026/01/Screenshot-2026-01-16-at-11.22.23-AM.png
END:VEVENT
BEGIN:VEVENT
DTSTART;TZID=America/New_York:20260210T183000
DTEND;TZID=America/New_York:20260210T203000
DTSTAMP:20260420T010805
CREATED:20260116T162001Z
LAST-MODIFIED:20260116T162001Z
UID:8658-1770748200-1770755400@manateepatriots.us
SUMMARY:General Meeting.  Featured Speaker:  John "Captain" Phillips\, Candidate for FL House District 72
DESCRIPTION:
URL:https://manateepatriots.us/event/general-meeting-featured-speaker-john-captain-phillips-candidate-for-fl-house-district-72/
LOCATION:John H. Marble Recreation Center\, 3675 53rd Ave E\, Bradenton\, FL\, 34203\, United States
CATEGORIES:Candidate
ATTACH;FMTTYPE=image/png:https://manateepatriots.us/wp-content/uploads/2026/01/Screenshot-2026-01-16-at-11.19.09-AM.png
END:VEVENT
BEGIN:VEVENT
DTSTART;TZID=America/New_York:20260203T183000
DTEND;TZID=America/New_York:20260203T203000
DTSTAMP:20260420T010805
CREATED:20260116T161546Z
LAST-MODIFIED:20260116T161630Z
UID:8655-1770143400-1770150600@manateepatriots.us
SUMMARY:General Meeting.  Featured Speaker:  Jonathan Mullis\, Candidate Manatee County School Board District 5
DESCRIPTION:Hear from Jonathan Mullis on his campaign for District 5 seat\, currently held by Richard Tatem.
URL:https://manateepatriots.us/event/general-meeting-featured-speaker-jonathan-mullis-candidate-manatee-county-school-board-district-5/
LOCATION:John H. Marble Recreation Center\, 3675 53rd Ave E\, Bradenton\, FL\, 34203\, United States
CATEGORIES:Candidate
ATTACH;FMTTYPE=image/png:https://manateepatriots.us/wp-content/uploads/2026/01/Screenshot-2026-01-16-at-11.14.15-AM.png
END:VEVENT
BEGIN:VEVENT
DTSTART;TZID=America/New_York:20260127T183000
DTEND;TZID=America/New_York:20260127T203000
DTSTAMP:20260420T010805
CREATED:20260116T161012Z
LAST-MODIFIED:20260124T214515Z
UID:8653-1769538600-1769545800@manateepatriots.us
SUMMARY:General Meeting.  Featured Speaker:  Tony Barrett Manatee County Board of County Commissioners District 6 At Large
DESCRIPTION:
URL:https://manateepatriots.us/event/general-meeting-featured-speaker-tony-bennett-manatee-county-board-of-county-commissioners-district-6-at-large/
LOCATION:John H. Marble Recreation Center\, 3675 53rd Ave E\, Bradenton\, FL\, 34203\, United States
CATEGORIES:Candidate
END:VEVENT
BEGIN:VEVENT
DTSTART;TZID=America/New_York:20260120T183000
DTEND;TZID=America/New_York:20260120T203000
DTSTAMP:20260420T010805
CREATED:20260113T025800Z
LAST-MODIFIED:20260119T165450Z
UID:8644-1768933800-1768941000@manateepatriots.us
SUMMARY:General Meeting.  Featured speaker:  Jack May
DESCRIPTION:Jack will lead a discussion on this year’s elections.
URL:https://manateepatriots.us/event/general-meeting-featured-speaker-michelle-pozzie/
LOCATION:John H. Marble Recreation Center\, 3675 53rd Ave E\, Bradenton\, FL\, 34203\, United States
CATEGORIES:Candidate,Elections
ATTACH;FMTTYPE=image/png:https://manateepatriots.us/wp-content/uploads/2021/10/Screen-Shot-2021-08-15-at-8.54.30-AM-e1633091335996.png
END:VEVENT
BEGIN:VEVENT
DTSTART;TZID=America/New_York:20251209T183000
DTEND;TZID=America/New_York:20251209T200000
DTSTAMP:20260420T010805
CREATED:20250925T220901Z
LAST-MODIFIED:20251023T175850Z
UID:8551-1765305000-1765310400@manateepatriots.us
SUMMARY:General Meeting.  Featured Speaker:  Kristen Truong
DESCRIPTION:Kristen Truong is a candidate for Florida State Representative for District 71.
URL:https://manateepatriots.us/event/general-meeting-featured-speaker-kristen-truong/
LOCATION:John H. Marble Recreation Center\, 3675 53rd Ave E\, Bradenton\, FL\, 34203\, United States
CATEGORIES:Candidate
END:VEVENT
BEGIN:VEVENT
DTSTART;TZID=America/New_York:20251125T183000
DTEND;TZID=America/New_York:20251125T200000
DTSTAMP:20260420T010805
CREATED:20250925T172207Z
LAST-MODIFIED:20251023T175830Z
UID:8544-1764095400-1764100800@manateepatriots.us
SUMMARY:General Meeting.  Featured Speaker:  Senator Jim Boyd
DESCRIPTION:
URL:https://manateepatriots.us/event/general-meeting-featured-speaker-senator-jim-boyd/
LOCATION:John H. Marble Recreation Center\, 3675 53rd Ave E\, Bradenton\, FL\, 34203\, United States
CATEGORIES:Candidate
ATTACH;FMTTYPE=image/png:https://manateepatriots.us/wp-content/uploads/2021/10/Screen-Shot-2021-10-07-at-8.26.20-PM-e1685637952934.png
END:VEVENT
BEGIN:VEVENT
DTSTART;TZID=America/New_York:20250715T180000
DTEND;TZID=America/New_York:20250715T200000
DTSTAMP:20260420T010805
CREATED:20250603T215143Z
LAST-MODIFIED:20250603T215143Z
UID:8474-1752602400-1752609600@manateepatriots.us
SUMMARY:Special Meeting.  Campaign Training From Leadership Institute
DESCRIPTION:Dena Eschpensied will provide in depth training for candidates and supporters.
URL:https://manateepatriots.us/event/special-meeting-campaign-training-from-leadership-institute/
LOCATION:Mixon Fruit Farms\, 2525 27th St E\, Bradenton\, Florida\, 34208\, United States
CATEGORIES:Candidate
ATTACH;FMTTYPE=image/jpeg:https://manateepatriots.us/wp-content/uploads/2023/08/IMG_3424-scaled.jpeg
END:VEVENT
BEGIN:VEVENT
DTSTART;TZID=America/New_York:20240903T180000
DTEND;TZID=America/New_York:20240903T200000
DTSTAMP:20260420T010805
CREATED:20240831T111500Z
LAST-MODIFIED:20240831T111500Z
UID:8126-1725386400-1725393600@manateepatriots.us
SUMMARY:Regular Meeting.  Scheduled Speaker:  Tal Siddique
DESCRIPTION:Tal Siddique\, candidate for Manatee County Commissioner for District 3\, will provide an update on his campaign.
URL:https://manateepatriots.us/event/regular-meeting-scheduled-speaker-tal-siddique/
LOCATION:Mixon Fruit Farms\, 2525 27th St E\, Bradenton\, Florida\, 34208\, United States
CATEGORIES:Candidate
ATTACH;FMTTYPE=image/png:https://manateepatriots.us/wp-content/uploads/2024/01/Screenshot-2024-01-17-at-8.34.19 AM.png
END:VEVENT
BEGIN:VEVENT
DTSTART;TZID=America/New_York:20240813T180000
DTEND;TZID=America/New_York:20240813T200000
DTSTAMP:20260420T010805
CREATED:20240812T101208Z
LAST-MODIFIED:20240812T101256Z
UID:8122-1723572000-1723579200@manateepatriots.us
SUMMARY:Candidate Forum
DESCRIPTION:Join us for a final candidate forum prior to the important August 20 Primary Election.  Schedule to appear are: \nCarol Ann Felts \nPerri Ann Parkman \nTal Siddique \nMark Stanoch
URL:https://manateepatriots.us/event/candidate-forum/
LOCATION:Mixon Fruit Farms\, 2525 27th St E\, Bradenton\, Florida\, 34208\, United States
CATEGORIES:Candidate
ATTACH;FMTTYPE=image/png:https://manateepatriots.us/wp-content/uploads/2024/08/dreamstime_m_107990771.png
END:VEVENT
BEGIN:VEVENT
DTSTART;TZID=America/New_York:20240319T180000
DTEND;TZID=America/New_York:20240319T200000
DTSTAMP:20260420T010805
CREATED:20240202T130812Z
LAST-MODIFIED:20240207T165142Z
UID:8028-1710871200-1710878400@manateepatriots.us
SUMMARY:General Meeting.  Scheduled Speaker:  Eddie Speir
DESCRIPTION:Eddie will discuss his recent trip to the US-Mexico Border.
URL:https://manateepatriots.us/event/general-meeting-scheduled-speaker-eddie-speer/
LOCATION:Mixon Fruit Farms\, 2525 27th St E\, Bradenton\, Florida\, 34208\, United States
CATEGORIES:Candidate,General Meeting
ATTACH;FMTTYPE=image/png:https://manateepatriots.us/wp-content/uploads/2023/07/Screenshot-2023-07-23-at-6.23.28-AM-e1706879279182.png
END:VEVENT
BEGIN:VEVENT
DTSTART;TZID=America/New_York:20240213T180000
DTEND;TZID=America/New_York:20240213T200000
DTSTAMP:20260420T010805
CREATED:20240126T194803Z
LAST-MODIFIED:20240126T194842Z
UID:8019-1707847200-1707854400@manateepatriots.us
SUMMARY:General Meeting.  Schedule Speaker:  Dr. Robert McCann\, Candidate BOCC District 5
DESCRIPTION:Brief Bio: Dr. McCann is a native of Chicago\, Illinois\, and a Roman Catholic of Irish decent. He is the second of four sons born to Harry McCann Jr.\, a Steel Worker\, and the late Catherine (Dwyer) McCann\, a Homemaker. Dr. McCann attended Annunciata Catholic Grammar School and graduated from George Washington High School in the Chicago Public School System. In 1975\, Dr. McCann joined the United States Navy and served honorably in the Hospital Corps. Dr. McCann received an Honorable Discharge from the Navy in 1979 and attended college on an Illinois Veteran’s Scholarship and the G.I. Bill. Dr. McCann is married to Rosemarie McCann.\n\nDr. McCann has lived in Manatee County\, District 5\, for 18 years. Dr. McCann is a devoted public servant\, Physician\, Lawyer\, Business Executive\, Educator\, and proud US Navy Veteran. For more information go to Dr. Bob McCann for Manatee County Commissioner District 5 | ElectBobMcCann.com.
URL:https://manateepatriots.us/event/general-meeting-schedule-speaker-dr-robert-mccann-candidate-bocc-district-5/
LOCATION:Mixon Fruit Farms\, 2525 27th St E\, Bradenton\, Florida\, 34208\, United States
CATEGORIES:Candidate,Elections,General Meeting
ATTACH;FMTTYPE=image/png:https://manateepatriots.us/wp-content/uploads/2024/01/Edge-Profile-Picture.png
END:VEVENT
BEGIN:VEVENT
DTSTART;TZID=America/New_York:20240109T180000
DTEND;TZID=America/New_York:20240109T200000
DTSTAMP:20260420T010805
CREATED:20231227T162747Z
LAST-MODIFIED:20231227T162747Z
UID:7964-1704823200-1704830400@manateepatriots.us
SUMMARY:General Meeting.  Scheduled Speaker:  Keith Gross
DESCRIPTION:epublican Candidate for US Senate\, Florida running against Rick Scott (KeithGross.com)
URL:https://manateepatriots.us/event/general-meeting-scheduled-speaker-keith-gross/
LOCATION:Mixon Fruit Farms\, 2525 27th St E\, Bradenton\, Florida\, 34208\, United States
CATEGORIES:Candidate,General Meeting
END:VEVENT
BEGIN:VEVENT
DTSTART;TZID=America/New_York:20230214T180000
DTEND;TZID=America/New_York:20230214T200000
DTSTAMP:20260420T010805
CREATED:20221206T155448Z
LAST-MODIFIED:20230126T191528Z
UID:6894-1676397600-1676404800@manateepatriots.us
SUMMARY:General Meeting.  Scheduled Speakers:  Richard Tatem
DESCRIPTION:Join us for the 4th in our series of ‘Commitment Nights” as recently elected School Board member – Richard Tatem\, District 5 – will discuss his goals for his new position.
URL:https://manateepatriots.us/event/general-meeting-scheduled-speakers-richard-tatem-amanda-ballard/
LOCATION:FL
CATEGORIES:Candidate,County
ATTACH;FMTTYPE=image/jpeg:https://manateepatriots.us/wp-content/uploads/2022/03/Richard-Tatem-pic.jpg
END:VEVENT
BEGIN:VEVENT
DTSTART;TZID=America/New_York:20230103T180000
DTEND;TZID=America/New_York:20230103T200000
DTSTAMP:20260420T010805
CREATED:20221130T121825Z
LAST-MODIFIED:20221202T121749Z
UID:6853-1672768800-1672776000@manateepatriots.us
SUMMARY:General Meeting.  Commitment Night. Scheduled Speakers: Mike Rahn\, Sunshine Mathews and Cindy Spray
DESCRIPTION:Join us for the second in a series of “Commitment Nights” as newly elected Palmetto City Commissioner\, Ward 2 – Sunshine Mathews – County Commissioner for District 4 – Mike Rahn – and Vice Chair of the Manatee County School Board – Cindy Spray – share their plans for their new offices.  Questions may be submitted in advance by using the “Contact” form on the Manatee Patriots website..
URL:https://manateepatriots.us/event/general-meeting-scheduled-speaker-mike-rahn/
LOCATION:Mixon Fruit Farms\, 2525 27th St E\, Bradenton\, Florida\, 34208\, United States
CATEGORIES:Candidate,County
ATTACH;FMTTYPE=image/png:https://manateepatriots.us/wp-content/uploads/2022/11/Screen-Shot-2022-11-30-at-5.20.16-PM.png
END:VEVENT
BEGIN:VEVENT
DTSTART;TZID=America/New_York:20221129T180000
DTEND;TZID=America/New_York:20221129T200000
DTSTAMP:20260420T010805
CREATED:20220829T001050Z
LAST-MODIFIED:20221112T160221Z
UID:6067-1669744800-1669752000@manateepatriots.us
SUMMARY:General Meeting.  First Meeting - New Electeds Commitment Meeting
DESCRIPTION:We all worked and to get these folks elected. Now here is our chance to hear their commitments to us!   Newly elected officials are invited to this important panel discussion where we will be provided with their individual roadmaps for success.  Attendees will need to submit their questions prior to the event via the Contact page on our website: https://manateepatriots.us/contact/   \nDue to Florida Sunshine Laws\, only a single candidate from each board (ie\, a particular City Council\, Board of County Commissioners\, School Board\, etc.) may attend.  Our first meeting includes: \n\nLisa Gonzalez Moore\, Bradenton City Council\nSunshine Mathews\, Palmetto City Council\nMike Rahn\, Manatee County Board of County Commissioners District 4
URL:https://manateepatriots.us/event/general-meeting-election-victory-party-for-our-candidates-primary-general/
LOCATION:FL
CATEGORIES:Candidate,Elections,General Meeting
ATTACH;FMTTYPE=image/png:https://manateepatriots.us/wp-content/uploads/2022/08/First-Commitment-Night-Panel.png
END:VEVENT
BEGIN:VEVENT
DTSTART;TZID=America/New_York:20220719T180000
DTEND;TZID=America/New_York:20220719T200000
DTSTAMP:20260420T010805
CREATED:20220304T171733Z
LAST-MODIFIED:20220712T192913Z
UID:4148-1658253600-1658260800@manateepatriots.us
SUMMARY:General Meeting.  School Board Candidate Forum
DESCRIPTION:Hear Rev. Golden \, Chantal Wilford and Richard Tatem speak on the issues affecting Manatee County Schools District 5.
URL:https://manateepatriots.us/event/general-meeting-school-board-candidate-forum/
LOCATION:FL
CATEGORIES:Candidate,Elections,General Meeting,School Board
ATTACH;FMTTYPE=image/png:https://manateepatriots.us/wp-content/uploads/2022/03/Screen-Shot-2022-07-12-at-9.50.04-AM.png
END:VEVENT
BEGIN:VEVENT
DTSTART;TZID=America/New_York:20220705T180000
DTEND;TZID=America/New_York:20220705T200000
DTSTAMP:20260420T010805
CREATED:20220216T143806Z
LAST-MODIFIED:20220217T113318Z
UID:3880-1657044000-1657051200@manateepatriots.us
SUMMARY:General Meeting.  Candidate Roundtable
DESCRIPTION:
URL:https://manateepatriots.us/event/general-meeting-candidate-roundtable/
LOCATION:FL
CATEGORIES:Candidate,General Meeting,Special Speaking Event
END:VEVENT
BEGIN:VEVENT
DTSTART;TZID=America/New_York:20220614T180000
DTEND;TZID=America/New_York:20220614T200000
DTSTAMP:20260420T010805
CREATED:20220331T201108Z
LAST-MODIFIED:20220331T201108Z
UID:4568-1655229600-1655236800@manateepatriots.us
SUMMARY:General Meeting.  Scheduled Speakers:  Amanda Ballard and Charles Smith
DESCRIPTION:Hear candidates for County Commissioner District 2 Amanda Ballard and Charles Smith speak on their respective platforms
URL:https://manateepatriots.us/event/general-meeting-scheduled-speakers-amanda-ballard-and-charles-smith/
LOCATION:FL
CATEGORIES:Candidate
ATTACH;FMTTYPE=image/png:https://manateepatriots.us/wp-content/uploads/2022/02/Screen-Shot-2022-02-16-at-9.13.45-AM.png
END:VEVENT
BEGIN:VEVENT
DTSTART;TZID=America/New_York:20220524T180000
DTEND;TZID=America/New_York:20220524T200000
DTSTAMP:20260420T010805
CREATED:20220216T143544Z
LAST-MODIFIED:20220302T193325Z
UID:3876-1653415200-1653422400@manateepatriots.us
SUMMARY:General Meeting.  Scheduled Speaker:  Martin Hyde
DESCRIPTION:Hear Martin Hyde\, former candidate for congressional district FL-16
URL:https://manateepatriots.us/event/general-meeting-scheduled-speaker-martin-hyde/
LOCATION:FL
CATEGORIES:Candidate,Congress,General Meeting
ATTACH;FMTTYPE=image/jpeg:https://manateepatriots.us/wp-content/uploads/2021/01/Martin-Hyde-pic.jpg
END:VEVENT
BEGIN:VEVENT
DTSTART;TZID=America/New_York:20220503T180000
DTEND;TZID=America/New_York:20220503T200000
DTSTAMP:20260420T010805
CREATED:20220217T100510Z
LAST-MODIFIED:20220223T044024Z
UID:3892-1651600800-1651608000@manateepatriots.us
SUMMARY:General Meeting.  Bradenton City Council Candidate Forum:  David Levin\, Marianne Barnebey\, more
DESCRIPTION:We will host a candidate forum including  David Levin and Marianne Barnebey.
URL:https://manateepatriots.us/event/general-meeting-scheduled-speaker-david-levin/
LOCATION:FL
CATEGORIES:Candidate,General Meeting
ATTACH;FMTTYPE=image/png:https://manateepatriots.us/wp-content/uploads/2022/02/Screen-Shot-2022-02-17-at-6.30.57-AM.png
END:VEVENT
END:VCALENDAR