BEGIN:VCALENDAR
VERSION:2.0
PRODID:-//Manatee Patriots - ECPv6.15.20//NONSGML v1.0//EN
CALSCALE:GREGORIAN
METHOD:PUBLISH
X-WR-CALNAME:Manatee Patriots
X-ORIGINAL-URL:https://manateepatriots.us
X-WR-CALDESC:Events for Manatee Patriots
REFRESH-INTERVAL;VALUE=DURATION:PT1H
X-Robots-Tag:noindex
X-PUBLISHED-TTL:PT1H
BEGIN:VTIMEZONE
TZID:America/New_York
BEGIN:DAYLIGHT
TZOFFSETFROM:-0500
TZOFFSETTO:-0400
TZNAME:EDT
DTSTART:20230312T070000
END:DAYLIGHT
BEGIN:STANDARD
TZOFFSETFROM:-0400
TZOFFSETTO:-0500
TZNAME:EST
DTSTART:20231105T060000
END:STANDARD
BEGIN:DAYLIGHT
TZOFFSETFROM:-0500
TZOFFSETTO:-0400
TZNAME:EDT
DTSTART:20240310T070000
END:DAYLIGHT
BEGIN:STANDARD
TZOFFSETFROM:-0400
TZOFFSETTO:-0500
TZNAME:EST
DTSTART:20241103T060000
END:STANDARD
BEGIN:DAYLIGHT
TZOFFSETFROM:-0500
TZOFFSETTO:-0400
TZNAME:EDT
DTSTART:20250309T070000
END:DAYLIGHT
BEGIN:STANDARD
TZOFFSETFROM:-0400
TZOFFSETTO:-0500
TZNAME:EST
DTSTART:20251102T060000
END:STANDARD
END:VTIMEZONE
BEGIN:VEVENT
DTSTART;TZID=America/New_York:20240507T180000
DTEND;TZID=America/New_York:20240507T200000
DTSTAMP:20260420T201219
CREATED:20240322T113747Z
LAST-MODIFIED:20240502T122154Z
UID:8065-1715104800-1715112000@manateepatriots.us
SUMMARY:General Meeting.  Scheduled Speaker:  Richard Tatem\, Manatee County School Board District 5
DESCRIPTION:Hear Richard discuss the latest plans around the millage proposition which will be on the ballot in November.
URL:https://manateepatriots.us/event/general-meeting-scheduled-speaker-richard-tatem-manatee-county-school-board-district-5/
LOCATION:Mixon Fruit Farms\, 2525 27th St E\, Bradenton\, Florida\, 34208\, United States
CATEGORIES:School Board
ATTACH;FMTTYPE=image/jpeg:https://manateepatriots.us/wp-content/uploads/2022/03/Richard-Tatem-pic.jpg
END:VEVENT
END:VCALENDAR