BEGIN:VCALENDAR
VERSION:2.0
PRODID:-//Manatee Patriots - ECPv6.15.20//NONSGML v1.0//EN
CALSCALE:GREGORIAN
METHOD:PUBLISH
X-WR-CALNAME:Manatee Patriots
X-ORIGINAL-URL:https://manateepatriots.us
X-WR-CALDESC:Events for Manatee Patriots
REFRESH-INTERVAL;VALUE=DURATION:PT1H
X-Robots-Tag:noindex
X-PUBLISHED-TTL:PT1H
BEGIN:VTIMEZONE
TZID:America/New_York
BEGIN:DAYLIGHT
TZOFFSETFROM:-0500
TZOFFSETTO:-0400
TZNAME:EDT
DTSTART:20210314T070000
END:DAYLIGHT
BEGIN:STANDARD
TZOFFSETFROM:-0400
TZOFFSETTO:-0500
TZNAME:EST
DTSTART:20211107T060000
END:STANDARD
BEGIN:DAYLIGHT
TZOFFSETFROM:-0500
TZOFFSETTO:-0400
TZNAME:EDT
DTSTART:20220313T070000
END:DAYLIGHT
BEGIN:STANDARD
TZOFFSETFROM:-0400
TZOFFSETTO:-0500
TZNAME:EST
DTSTART:20221106T060000
END:STANDARD
BEGIN:DAYLIGHT
TZOFFSETFROM:-0500
TZOFFSETTO:-0400
TZNAME:EDT
DTSTART:20230312T070000
END:DAYLIGHT
BEGIN:STANDARD
TZOFFSETFROM:-0400
TZOFFSETTO:-0500
TZNAME:EST
DTSTART:20231105T060000
END:STANDARD
END:VTIMEZONE
BEGIN:VEVENT
DTSTART;TZID=America/New_York:20220531T180000
DTEND;TZID=America/New_York:20220531T200000
DTSTAMP:20260422T043355
CREATED:20220217T100321Z
LAST-MODIFIED:20220217T100321Z
UID:3890-1654020000-1654027200@manateepatriots.us
SUMMARY:General Meeting.  Action Team Night
DESCRIPTION:Join us for an exciting evening as our Action Team Leaders discuss their current projects.
URL:https://manateepatriots.us/event/general-meeting-action-team-night/
CATEGORIES:General Meeting,Special Speaking Event
ATTACH;FMTTYPE=image/jpeg:https://manateepatriots.us/wp-content/uploads/2021/09/cropped-cropped-PATRIOTS-LOGO-copy.jpg
END:VEVENT
END:VCALENDAR